BEGIN:VCALENDAR
VERSION:2.0
PRODID:-//project/author//NONSGML v1.0//EN
CALSCALE:GREGORIAN
BEGIN:VEVENT
DTSTART:20191129T170000
LOCATION:Universität Leipzig, Klinik und Poliklinik für Neurochirurgie, Liebigstraße 20, 04103 Leipzig, Germany
DTEND:20191129T220000
DTSTAMP:20260422T111315
UID:1140
SUMMARY:3D-Druck in der personalisierten Chirurgie – Option der Zukunft?
URL;VALUE=URI:
END:VEVENT
END:VCALENDAR