BEGIN:VCALENDAR
VERSION:2.0
PRODID:-//project/author//NONSGML v1.0//EN
CALSCALE:GREGORIAN
BEGIN:VEVENT
DTSTART:20191113T100000
LOCATION:KARL STORZ Besucher- und Schulungszentrum Berlin, Scharnhorststraße 3, 10115 Berlin, Germany
DTEND:20191113T160000
DTSTAMP:20260420T162505
UID:1137
SUMMARY:Leibniz-Workshop: Bildgebende Diagnostik in der Hightech-Medizin
URL;VALUE=URI:
END:VEVENT
END:VCALENDAR