BEGIN:VCALENDAR
VERSION:2.0
PRODID:-//project/author//NONSGML v1.0//EN
CALSCALE:GREGORIAN
BEGIN:VEVENT
DTSTART:20191113T133000
LOCATION:hedicke´s · Terracotta, Luisenstraße 9, 78464 Konstanz, Germany
DTEND:20191113T180000
DTSTAMP:20260423T102653
UID:1136
SUMMARY:Zukunftsforum Telemedizin
URL;VALUE=URI:
END:VEVENT
END:VCALENDAR