BEGIN:VCALENDAR
VERSION:2.0
PRODID:-//project/author//NONSGML v1.0//EN
CALSCALE:GREGORIAN
BEGIN:VEVENT
DTSTART:20191128T130000
LOCATION:Infineon Dresden, Königsbrücker Straße 180, 01099 Dresden, Deutschland
DTEND:20191128T180000
DTSTAMP:20260421T125827
UID:1134
SUMMARY:hub:disrupt - KI in der Anwendung
URL;VALUE=URI:
END:VEVENT
END:VCALENDAR