BEGIN:VCALENDAR
VERSION:2.0
PRODID:-//project/author//NONSGML v1.0//EN
CALSCALE:GREGORIAN
BEGIN:VEVENT
DTSTART:20191129T090000
LOCATION:Dresden International University, Freiberger Str. 37, 01067 Dresden, Deutschland
DTEND:20191129T170000
DTSTAMP:20260422T103028
UID:1130
SUMMARY:Tagesseminar "Forum Insolvenzpraxis"
URL;VALUE=URI:
END:VEVENT
END:VCALENDAR