BEGIN:VCALENDAR
VERSION:2.0
PRODID:-//project/author//NONSGML v1.0//EN
CALSCALE:GREGORIAN
BEGIN:VEVENT
DTSTART:20191109T090000
LOCATION:Dresden International University, Freiberger Str. 37, 01067 Dresden, Deutschland
DTEND:20191109T190000
DTSTAMP:20260419T202635
UID:1129
SUMMARY:Herausforderungen & Neuerungen im GmbH-Recht
URL;VALUE=URI:
END:VEVENT
END:VCALENDAR