BEGIN:VCALENDAR
VERSION:2.0
PRODID:-//project/author//NONSGML v1.0//EN
CALSCALE:GREGORIAN
BEGIN:VEVENT
DTSTART:20191010T170000
LOCATION:PRISMA European Capacity Platform GmbH, Reichsstraße 1-9 (Eingang in der Passage zwischen Naschmarkt und Reichsstraße, 2. OG), 04109 Leipzig, Germany
DTEND:20191010T190000
DTSTAMP:20260419T161543
UID:1125
SUMMARY:Arbeitserlaubnis für ausländische Fachkräfte in Deutschland
URL;VALUE=URI:
END:VEVENT
END:VCALENDAR