BEGIN:VCALENDAR
VERSION:2.0
PRODID:-//project/author//NONSGML v1.0//EN
CALSCALE:GREGORIAN
BEGIN:VEVENT
DTSTART:20191205T100000
LOCATION:FILK gGmbH, Meißner Ring 1-5, 09599 Freiberg, Deutschland
DTEND:20191205T140000
DTSTAMP:20260419T190232
UID:1124
SUMMARY:Vortragsreihe "Angewandte Kollagenforschung"
URL;VALUE=URI:
END:VEVENT
END:VCALENDAR