BEGIN:VCALENDAR
VERSION:2.0
PRODID:-//project/author//NONSGML v1.0//EN
CALSCALE:GREGORIAN
BEGIN:VEVENT
DTSTART:20191009T090000
LOCATION:Adenso GmbH, Am Weiher 3, OT Boxdorf / Dresden, 01468 Moritzburg, Germany
DTEND:20191009T160000
DTSTAMP:20260421T113442
UID:1119
SUMMARY:Was sind die Japaner für ein Volk?
URL;VALUE=URI:
END:VEVENT
END:VCALENDAR