BEGIN:VCALENDAR
VERSION:2.0
PRODID:-//project/author//NONSGML v1.0//EN
CALSCALE:GREGORIAN
BEGIN:VEVENT
DTSTART:20191211T090000
LOCATION:BIO CITY Leipzig, Deutscher Platz 5c, 04103 Leipzig, Germany
DTEND:20191211T170000
DTSTAMP:20260420T144943
UID:1115
SUMMARY:Seminar "IT Security für Medizinprodukte"
URL;VALUE=URI:
END:VEVENT
END:VCALENDAR