BEGIN:VCALENDAR
VERSION:2.0
PRODID:-//project/author//NONSGML v1.0//EN
CALSCALE:GREGORIAN
BEGIN:VEVENT
DTSTART:20191016T090000
LOCATION:BIO CITY Leipzig, Deutscher Platz 5c, 04103 Leipzig, Germany
DTEND:20191016T170000
DTSTAMP:20260419T173126
UID:1114
SUMMARY:Workshop "Fallzahlplanung als Bestandteil der Planung von Experimenten und Studien in Life Sciences"
URL;VALUE=URI:
END:VEVENT
END:VCALENDAR