BEGIN:VCALENDAR
VERSION:2.0
PRODID:-//project/author//NONSGML v1.0//EN
CALSCALE:GREGORIAN
BEGIN:VEVENT
DTSTART:20190925T093000
LOCATION:Red Bull Arena Leipzig, Am Sportforum 2, 04105 Leipzig, Germany
DTEND:20190925T140000
DTSTAMP:20260420T210605
UID:1111
SUMMARY:World Courier Morning Seminar - 3. World Courier Commercial Supply Chain & Digital Strategy Day
URL;VALUE=URI:
END:VEVENT
END:VCALENDAR