BEGIN:VCALENDAR
VERSION:2.0
PRODID:-//project/author//NONSGML v1.0//EN
CALSCALE:GREGORIAN
BEGIN:VEVENT
DTSTART:20190827T083000
LOCATION:BIO CITY LEIPZIG, Deutscher Platz 5c, 04103 Leipzig, Germany
DTEND:20190827T173000
DTSTAMP:20260423T104134
UID:1100
SUMMARY:"Regulatory Check-Up" - Kostenfreier Check regulatorischer Anforderungen für MedTech- und IVD-Firmen
URL;VALUE=URI:
END:VEVENT
END:VCALENDAR