BEGIN:VCALENDAR
VERSION:2.0
PRODID:-//project/author//NONSGML v1.0//EN
CALSCALE:GREGORIAN
BEGIN:VEVENT
DTSTART:20190911T090000
LOCATION:Christian-Albrechts-Universität zu Kiel, Kiel, Deutschland
DTEND:20190912T170000
DTSTAMP:20260422T142122
UID:1084
SUMMARY:12. Bundesalgenstammtisch 2019
URL;VALUE=URI:
END:VEVENT
END:VCALENDAR