BEGIN:VCALENDAR
VERSION:2.0
PRODID:-//project/author//NONSGML v1.0//EN
CALSCALE:GREGORIAN
BEGIN:VEVENT
DTSTART:20190911T070000
LOCATION:Boston Convention and Exhibition Center (BCEC), 415 Summer Street, 02210 Boston, United States
DTEND:20190912T170000
DTSTAMP:20260419T171420
UID:1079
SUMMARY:BioPharm America™
URL;VALUE=URI:
END:VEVENT
END:VCALENDAR