BEGIN:VCALENDAR
VERSION:2.0
PRODID:-//project/author//NONSGML v1.0//EN
CALSCALE:GREGORIAN
BEGIN:VEVENT
DTSTART:20190605T170000
LOCATION:B CUBE Center for molecular bioengineering // Technische Universität Dresden, Tatzberg 41, 01307 Dresden, Germany
DTEND:20190605T200000
DTSTAMP:20260419T173227
UID:1072
SUMMARY:GWT Open House - Neue Materialien für die Technologien der Zukunft
URL;VALUE=URI:
END:VEVENT
END:VCALENDAR