BEGIN:VCALENDAR
VERSION:2.0
PRODID:-//project/author//NONSGML v1.0//EN
CALSCALE:GREGORIAN
BEGIN:VEVENT
DTSTART:20190628T093000
LOCATION:Germany
DTEND:20190628T153000
DTSTAMP:20260420T192031
UID:1067
SUMMARY:2. Sächsische Betriebs- und Personalrätekonferenz sowie Abschlussveranstaltung zur Studie „Arbeit 4.0"
URL;VALUE=URI:
END:VEVENT
END:VCALENDAR