BEGIN:VCALENDAR
VERSION:2.0
PRODID:-//project/author//NONSGML v1.0//EN
CALSCALE:GREGORIAN
BEGIN:VEVENT
DTSTART:20190514T180000
LOCATION:Foyer im Konzert- und Ballhaus Neue Welt, Leipziger Straße 182, 08058 Zwickau, Germany
DTEND:20190514T200000
DTSTAMP:20260419T220456
UID:1066
SUMMARY:Die Zukunft der Arbeit – Wie kann Sachsen von seiner starken Industriekultur profitieren?
URL;VALUE=URI:
END:VEVENT
END:VCALENDAR