BEGIN:VCALENDAR
VERSION:2.0
PRODID:-//project/author//NONSGML v1.0//EN
CALSCALE:GREGORIAN
BEGIN:VEVENT
DTSTART:20190522T100000
LOCATION:NCC Mitte, Raum Lissabon, Messezentrum, 90471 Nürnberg, Germany
DTEND:20190522T120000
DTSTAMP:20260420T134235
UID:1065
SUMMARY:Projektforum KMU-innovativ: Medizintechnik
URL;VALUE=URI:
END:VEVENT
END:VCALENDAR