BEGIN:VCALENDAR
VERSION:2.0
PRODID:-//project/author//NONSGML v1.0//EN
CALSCALE:GREGORIAN
BEGIN:VEVENT
DTSTART:20190703T000000
LOCATION:Institut für Klinische Anatomie und Zellanalytik in Tübingen, Elfriede-Aulhorn-Straße 8, 72076 Tübingen, Germany
DTEND:20190703T000000
DTSTAMP:20260420T185408
UID:1061
SUMMARY:„Einschnitte – Einblicke“ - Intelligente Dauerimplantate
URL;VALUE=URI:
END:VEVENT
END:VCALENDAR