BEGIN:VCALENDAR
VERSION:2.0
PRODID:-//project/author//NONSGML v1.0//EN
CALSCALE:GREGORIAN
BEGIN:VEVENT
DTSTART:20191023T090000
LOCATION:Frankfurt am Main, Deutschland
DTEND:20191024T160000
DTSTAMP:20260420T202249
UID:1060
SUMMARY:Analysen, Prognosen und Optimierung mit statistischen Modellen
URL;VALUE=URI:
END:VEVENT
END:VCALENDAR