BEGIN:VCALENDAR
VERSION:2.0
PRODID:-//project/author//NONSGML v1.0//EN
CALSCALE:GREGORIAN
BEGIN:VEVENT
DTSTART:20190924T090000
LOCATION:Frankfurt am Main, Deutschland
DTEND:20190926T160000
DTSTAMP:20260420T171833
UID:1059
SUMMARY:Protein-Ligand Docking und Virtual Screening für Einsteiger
URL;VALUE=URI:
END:VEVENT
END:VCALENDAR