BEGIN:VCALENDAR
VERSION:2.0
PRODID:-//project/author//NONSGML v1.0//EN
CALSCALE:GREGORIAN
BEGIN:VEVENT
DTSTART:20190409T150000
LOCATION:IHK zu Leipzig, Goerdelerring  5, 04109 Leipzig, Deutschland
DTEND:20190409T180000
DTSTAMP:20260422T145735
UID:1051
SUMMARY:EU-Markenrechtsreform - Auswirkungen für Deutschland
URL;VALUE=URI:
END:VEVENT
END:VCALENDAR