BEGIN:VCALENDAR
VERSION:2.0
PRODID:-//project/author//NONSGML v1.0//EN
CALSCALE:GREGORIAN
BEGIN:VEVENT
DTSTART:20190521T180000
LOCATION:ROSENGARTEN - Café, Restaurant & Elbterrassen, Carusufer 12, 01099 Dresden, Germany
DTEND:20190521T220000
DTSTAMP:20260420T184434
UID:1038
SUMMARY:10 Jahre biosaxony - Sommerfest
URL;VALUE=URI:
END:VEVENT
END:VCALENDAR