BEGIN:VCALENDAR
VERSION:2.0
PRODID:-//project/author//NONSGML v1.0//EN
CALSCALE:GREGORIAN
BEGIN:VEVENT
DTSTART:20190305T093000
LOCATION:Magnus-Haus, Am Kupfergraben 7, 10117 Berlin, Germany
DTEND:20190305T163000
DTSTAMP:20260419T150317
UID:1036
SUMMARY:Software als In-vitro-Diagnostikum
URL;VALUE=URI:
END:VEVENT
END:VCALENDAR