BEGIN:VCALENDAR
VERSION:2.0
PRODID:-//project/author//NONSGML v1.0//EN
CALSCALE:GREGORIAN
BEGIN:VEVENT
DTSTART:20190328T000000
LOCATION:Hotel Okura Amsterdam, Ferdinand Bolstraat 333, 1072 LH Amsterdam, Niederlande
DTEND:20190329T000000
DTSTAMP:20260419T172126
UID:1035
SUMMARY:17th Biosimilar Medicines Conference
URL;VALUE=URI:
END:VEVENT
END:VCALENDAR