BEGIN:VCALENDAR
VERSION:2.0
PRODID:-//project/author//NONSGML v1.0//EN
CALSCALE:GREGORIAN
BEGIN:VEVENT
DTSTART:20190416T093000
LOCATION:OncoRay, Händelallee 26, 01309 Dresden, Germany
DTEND:20190416T160000
DTSTAMP:20260422T131226
UID:1028
SUMMARY:bionection meets... Oncology
URL;VALUE=URI:
END:VEVENT
END:VCALENDAR