BEGIN:VCALENDAR
VERSION:2.0
PRODID:-//project/author//NONSGML v1.0//EN
CALSCALE:GREGORIAN
BEGIN:VEVENT
DTSTART:20190325T073000
LOCATION:Messe Wien Exhibition and Congress Center, Messe Wien Exhibition and Congress Center, 1020 Vienna, Austria
DTEND:20190327T170000
DTSTAMP:20260420T200446
UID:1025
SUMMARY:BIO-Europe Spring® 2019
URL;VALUE=URI:
END:VEVENT
END:VCALENDAR