BEGIN:VCALENDAR
VERSION:2.0
PRODID:-//project/author//NONSGML v1.0//EN
CALSCALE:GREGORIAN
BEGIN:VEVENT
DTSTART:20190408T110000
LOCATION:CCW – Congress Centrum Würzburg, Pleichertorstraße, 97070 Würzburg, Germany
DTEND:20190408T170000
DTSTAMP:20260421T113422
UID:1022
SUMMARY:The Biotech Investors Day
URL;VALUE=URI:
END:VEVENT
END:VCALENDAR