BEGIN:VCALENDAR
VERSION:2.0
PRODID:-//project/author//NONSGML v1.0//EN
CALSCALE:GREGORIAN
BEGIN:VEVENT
DTSTART:20190205T140000
LOCATION:Congress Center Leipzig  (Konferenzebene 1+, Saal 2), Seehausener Allee 1, 04356 Leipzig, Germany
DTEND:20190205T200000
DTSTAMP:20260422T130952
UID:1015
SUMMARY:Internationale Konferenz "Industry’s Hidden Champions – Wege zur Marktführerschaft"
URL;VALUE=URI:
END:VEVENT
END:VCALENDAR