BEGIN:VCALENDAR
VERSION:2.0
PRODID:-//project/author//NONSGML v1.0//EN
CALSCALE:GREGORIAN
BEGIN:VEVENT
DTSTART:20191114T090000
LOCATION:SLG Akademie GmbH, Burgstädter Straße 20, 09232 Hartmannsdorf, Germany
DTEND:20191114T130000
DTSTAMP:20260419T190211
UID:1014
SUMMARY:Aktuelle Umwelt- und Materialanforderungen bei der Produktherstellung
URL;VALUE=URI:
END:VEVENT
END:VCALENDAR