BEGIN:VCALENDAR
VERSION:2.0
PRODID:-//project/author//NONSGML v1.0//EN
CALSCALE:GREGORIAN
BEGIN:VEVENT
DTSTART:20190206T090000
LOCATION:SLG Akademie GmbH, Burgstädter Straße 20, 09232 Hartmannsdorf, Germany
DTEND:20190206T130000
DTSTAMP:20260420T134315
UID:1005
SUMMARY:Die neue Gewerbeabfallverordnung (GewAbfV)
URL;VALUE=URI:
END:VEVENT
END:VCALENDAR